{
 "currentVersion": 10.81,
 "serviceDescription": "Imagenes Urbana 2024",
 "name": "Imagenes2024/HUACHI_URB",
 "description": "Imagenes Urbana 2024",
 "extent": {
  "xmin": 761449.502,
  "ymin": 9854153.311,
  "xmax": 766459.194,
  "ymax": 9858000.545,
  "spatialReference": {
   "wkid": 32717,
   "latestWkid": 32717
  }
 },
 "initialExtent": {
  "xmin": 761449.502,
  "ymin": 9854153.311,
  "xmax": 766459.194,
  "ymax": 9858000.545,
  "spatialReference": {
   "wkid": 32717,
   "latestWkid": 32717
  }
 },
 "fullExtent": {
  "xmin": 761449.502,
  "ymin": 9854153.311,
  "xmax": 766459.194,
  "ymax": 9858000.545,
  "spatialReference": {
   "wkid": 32717,
   "latestWkid": 32717
  }
 },
 "pixelSizeX": 0.0380000000000003,
 "pixelSizeY": 0.03799999999999249,
 "bandCount": 3,
 "pixelType": "U8",
 "minPixelSize": 0,
 "maxPixelSize": 0,
 "copyrightText": "",
 "serviceDataType": "esriImageServiceDataTypeRGB",
 "minValues": [
  1,
  1,
  1
 ],
 "maxValues": [
  254,
  254,
  254
 ],
 "meanValues": [
  126.43026121374,
  123.75677548439,
  112.04351561492
 ],
 "stdvValues": [
  36.864164241478,
  33.28714002856,
  38.509570549666
 ],
 "objectIdField": "",
 "fields": [],
 "capabilities": "Image,Metadata,Mensuration",
 "defaultMosaicMethod": "Center",
 "allowedMosaicMethods": "",
 "sortField": "",
 "sortValue": null,
 "sortAscending": true,
 "mosaicOperator": "First",
 "defaultCompressionQuality": 75,
 "defaultResamplingMethod": "Bilinear",
 "maxImageHeight": 4100,
 "maxImageWidth": 15000,
 "allowRasterFunction": true,
 "rasterFunctionInfos": [
  {
   "name": "None",
   "description": "",
   "help": ""
  }
 ],
 "rasterTypeInfos": [
  {
   "name": "Raster Dataset",
   "description": "Supports all ArcGIS Raster Datasets",
   "help": ""
  }
 ],
 "mensurationCapabilities": "Basic",
 "hasHistograms": true,
 "hasColormap": false,
 "hasRasterAttributeTable": false,
 "minScale": 0,
 "maxScale": 0,
 "exportTilesAllowed": false,
 "hasMultidimensions": false,
 "supportsStatistics": false,
 "supportsAdvancedQueries": false,
 "editFieldsInfo": null,
 "ownershipBasedAccessControlForRasters": null,
 "allowComputeTiePoints": false,
 "useStandardizedQueries": true,
 "advancedQueryCapabilities": {
  "useStandardizedQueries": true,
  "supportsStatistics": false,
  "supportsOrderBy": false,
  "supportsDistinct": false,
  "supportsPagination": false
 },
 "spatialReference": {
  "wkid": 32717,
  "latestWkid": 32717
 }
}
