{
 "currentVersion": 10.81,
 "serviceDescription": "Imagenes Urbana 2024",
 "name": "Imagenes2024/MONTALVO_URB",
 "description": "Imagenes Urbana 2024",
 "extent": {
  "xmin": 763381.08643,
  "ymin": 9852347.60559,
  "xmax": 764681.2859600001,
  "ymax": 9853236.65557,
  "spatialReference": {
   "wkid": 32717,
   "latestWkid": 32717
  }
 },
 "initialExtent": {
  "xmin": 763381.08643,
  "ymin": 9852347.60559,
  "xmax": 764681.2859600001,
  "ymax": 9853236.65557,
  "spatialReference": {
   "wkid": 32717,
   "latestWkid": 32717
  }
 },
 "fullExtent": {
  "xmin": 763381.08643,
  "ymin": 9852347.60559,
  "xmax": 764681.2859600001,
  "ymax": 9853236.65557,
  "spatialReference": {
   "wkid": 32717,
   "latestWkid": 32717
  }
 },
 "pixelSizeX": 0.038990000000002994,
 "pixelSizeY": 0.038989999999985155,
 "bandCount": 4,
 "pixelType": "U16",
 "minPixelSize": 0,
 "maxPixelSize": 0,
 "copyrightText": "",
 "serviceDataType": "esriImageServiceDataTypeGeneric",
 "minValues": [
  0,
  0,
  0,
  255
 ],
 "maxValues": [
  255,
  255,
  255,
  255
 ],
 "meanValues": [
  117.05377696718,
  119.64246310709,
  109.94516886788,
  255
 ],
 "stdvValues": [
  45.653574048155,
  41.287328847947,
  46.28047657149,
  0
 ],
 "objectIdField": "",
 "fields": [],
 "capabilities": "Image,Metadata,Mensuration",
 "defaultMosaicMethod": "Center",
 "allowedMosaicMethods": "",
 "sortField": "",
 "sortValue": null,
 "sortAscending": true,
 "mosaicOperator": "First",
 "defaultCompressionQuality": 75,
 "defaultResamplingMethod": "Bilinear",
 "maxImageHeight": 4100,
 "maxImageWidth": 15000,
 "allowRasterFunction": true,
 "rasterFunctionInfos": [
  {
   "name": "None",
   "description": "",
   "help": ""
  }
 ],
 "rasterTypeInfos": [
  {
   "name": "Raster Dataset",
   "description": "Supports all ArcGIS Raster Datasets",
   "help": ""
  }
 ],
 "mensurationCapabilities": "Basic",
 "hasHistograms": true,
 "hasColormap": false,
 "hasRasterAttributeTable": false,
 "minScale": 0,
 "maxScale": 0,
 "exportTilesAllowed": false,
 "hasMultidimensions": false,
 "supportsStatistics": false,
 "supportsAdvancedQueries": false,
 "editFieldsInfo": null,
 "ownershipBasedAccessControlForRasters": null,
 "allowComputeTiePoints": false,
 "useStandardizedQueries": true,
 "advancedQueryCapabilities": {
  "useStandardizedQueries": true,
  "supportsStatistics": false,
  "supportsOrderBy": false,
  "supportsDistinct": false,
  "supportsPagination": false
 },
 "spatialReference": {
  "wkid": 32717,
  "latestWkid": 32717
 }
}
