{
 "currentVersion": 10.81,
 "serviceDescription": "ACTUALIZACION CATASTRAL 2024",
 "name": "Mapas_Base/AMBATILLO_CACHE",
 "description": "ACTUALIZACION CATASTRAL 2024",
 "extent": {
  "xmin": 758815.8,
  "ymin": 9861253.490999999,
  "xmax": 762161.4,
  "ymax": 9872491.190999998,
  "spatialReference": {
   "wkid": 32717,
   "latestWkid": 32717
  }
 },
 "initialExtent": {
  "xmin": 758815.8,
  "ymin": 9861253.490999999,
  "xmax": 762161.4,
  "ymax": 9872491.190999998,
  "spatialReference": {
   "wkid": 32717,
   "latestWkid": 32717
  }
 },
 "fullExtent": {
  "xmin": 758815.8,
  "ymin": 9861253.490999999,
  "xmax": 762161.4,
  "ymax": 9872491.190999998,
  "spatialReference": {
   "wkid": 32717,
   "latestWkid": 32717
  }
 },
 "pixelSizeX": 0.29999999999999793,
 "pixelSizeY": 0.2999999999999801,
 "bandCount": 6,
 "pixelType": "S32",
 "minPixelSize": 0,
 "maxPixelSize": 0,
 "copyrightText": "",
 "serviceDataType": "esriImageServiceDataTypeGeneric",
 "minValues": [
  0,
  0,
  0,
  0,
  0,
  0
 ],
 "maxValues": [
  65535,
  65535,
  65535,
  65535,
  65535,
  65535
 ],
 "meanValues": [
  722.01026588894,
  740.21955878636,
  532.05189340088,
  2825.5551265584,
  1702.1451326281,
  510.95174826368
 ],
 "stdvValues": [
  1718.3377388256,
  1707.5372447334,
  1707.3554215675,
  1846.5704120549,
  1736.3318984607,
  1702.5193548075
 ],
 "objectIdField": "",
 "fields": [],
 "capabilities": "Image,Metadata,Mensuration",
 "defaultMosaicMethod": "Center",
 "allowedMosaicMethods": "",
 "sortField": "",
 "sortValue": null,
 "sortAscending": true,
 "mosaicOperator": "First",
 "defaultCompressionQuality": 75,
 "defaultResamplingMethod": "Bilinear",
 "maxImageHeight": 4100,
 "maxImageWidth": 15000,
 "allowRasterFunction": true,
 "rasterFunctionInfos": [
  {
   "name": "None",
   "description": "",
   "help": ""
  }
 ],
 "rasterTypeInfos": [
  {
   "name": "Raster Dataset",
   "description": "Supports all ArcGIS Raster Datasets",
   "help": ""
  }
 ],
 "mensurationCapabilities": "Basic",
 "hasHistograms": true,
 "hasColormap": false,
 "hasRasterAttributeTable": false,
 "minScale": 0,
 "maxScale": 0,
 "exportTilesAllowed": false,
 "hasMultidimensions": false,
 "supportsStatistics": false,
 "supportsAdvancedQueries": false,
 "editFieldsInfo": null,
 "ownershipBasedAccessControlForRasters": null,
 "allowComputeTiePoints": false,
 "useStandardizedQueries": true,
 "advancedQueryCapabilities": {
  "useStandardizedQueries": true,
  "supportsStatistics": false,
  "supportsOrderBy": false,
  "supportsDistinct": false,
  "supportsPagination": false
 },
 "spatialReference": {
  "wkid": 32717,
  "latestWkid": 32717
 }
}
