{
 "currentVersion": 10.81,
 "serviceDescription": "ACTUALIZACION IMAGEN 2024",
 "name": "Mapas_Base/CONSTANTINO_CACHE",
 "description": "ACTUALIZACION IMAGEN 2024",
 "extent": {
  "xmin": 759390.9,
  "ymin": 9864649.190999998,
  "xmax": 765678.3,
  "ymax": 9872695.190999998,
  "spatialReference": {
   "wkid": 32717,
   "latestWkid": 32717
  }
 },
 "initialExtent": {
  "xmin": 759390.9,
  "ymin": 9864649.190999998,
  "xmax": 765678.3,
  "ymax": 9872695.190999998,
  "spatialReference": {
   "wkid": 32717,
   "latestWkid": 32717
  }
 },
 "fullExtent": {
  "xmin": 759390.9,
  "ymin": 9864649.190999998,
  "xmax": 765678.3,
  "ymax": 9872695.190999998,
  "spatialReference": {
   "wkid": 32717,
   "latestWkid": 32717
  }
 },
 "pixelSizeX": 0.3000000000000011,
 "pixelSizeY": 0.3,
 "bandCount": 6,
 "pixelType": "S32",
 "minPixelSize": 0,
 "maxPixelSize": 0,
 "copyrightText": "",
 "serviceDataType": "esriImageServiceDataTypeGeneric",
 "minValues": [
  0,
  0,
  0,
  0,
  0,
  0
 ],
 "maxValues": [
  65535,
  65535,
  65535,
  65535,
  65535,
  65535
 ],
 "meanValues": [
  807.51823656985,
  795.30740477151,
  592.79788250124,
  2756.5158752675,
  1706.4361668643,
  569.96191722632
 ],
 "stdvValues": [
  1979.4900099401,
  1967.2571311393,
  1968.4427732547,
  2055.1322164915,
  1972.9773447281,
  1963.7645154724
 ],
 "objectIdField": "",
 "fields": [],
 "capabilities": "Image,Metadata,Mensuration",
 "defaultMosaicMethod": "Center",
 "allowedMosaicMethods": "",
 "sortField": "",
 "sortValue": null,
 "sortAscending": true,
 "mosaicOperator": "First",
 "defaultCompressionQuality": 75,
 "defaultResamplingMethod": "Bilinear",
 "maxImageHeight": 4100,
 "maxImageWidth": 15000,
 "allowRasterFunction": true,
 "rasterFunctionInfos": [
  {
   "name": "None",
   "description": "",
   "help": ""
  }
 ],
 "rasterTypeInfos": [
  {
   "name": "Raster Dataset",
   "description": "Supports all ArcGIS Raster Datasets",
   "help": ""
  }
 ],
 "mensurationCapabilities": "Basic",
 "hasHistograms": true,
 "hasColormap": false,
 "hasRasterAttributeTable": false,
 "minScale": 0,
 "maxScale": 0,
 "exportTilesAllowed": false,
 "hasMultidimensions": false,
 "supportsStatistics": false,
 "supportsAdvancedQueries": false,
 "editFieldsInfo": null,
 "ownershipBasedAccessControlForRasters": null,
 "allowComputeTiePoints": false,
 "useStandardizedQueries": true,
 "advancedQueryCapabilities": {
  "useStandardizedQueries": true,
  "supportsStatistics": false,
  "supportsOrderBy": false,
  "supportsDistinct": false,
  "supportsPagination": false
 },
 "spatialReference": {
  "wkid": 32717,
  "latestWkid": 32717
 }
}
