{
 "currentVersion": 10.81,
 "serviceDescription": "ACTUALIZACION CATASTRAL 2024",
 "name": "Mapas_Base/PASA_CACHE",
 "description": "ACTUALIZACION CATASTRAL 2024",
 "extent": {
  "xmin": 745524.3,
  "ymin": 9857363.990999999,
  "xmax": 758655.9,
  "ymax": 9871191.291,
  "spatialReference": {
   "wkid": 32717,
   "latestWkid": 32717
  }
 },
 "initialExtent": {
  "xmin": 745524.3,
  "ymin": 9857363.990999999,
  "xmax": 758655.9,
  "ymax": 9871191.291,
  "spatialReference": {
   "wkid": 32717,
   "latestWkid": 32717
  }
 },
 "fullExtent": {
  "xmin": 745524.3,
  "ymin": 9857363.990999999,
  "xmax": 758655.9,
  "ymax": 9871191.291,
  "spatialReference": {
   "wkid": 32717,
   "latestWkid": 32717
  }
 },
 "pixelSizeX": 0.2999999999999995,
 "pixelSizeY": 0.30000000000001614,
 "bandCount": 3,
 "pixelType": "U8",
 "minPixelSize": 0,
 "maxPixelSize": 0,
 "copyrightText": "",
 "serviceDataType": "esriImageServiceDataTypeRGB",
 "minValues": [],
 "maxValues": [],
 "meanValues": [],
 "stdvValues": [],
 "objectIdField": "",
 "fields": [],
 "capabilities": "Image,Metadata,Mensuration",
 "defaultMosaicMethod": "Center",
 "allowedMosaicMethods": "",
 "sortField": "",
 "sortValue": null,
 "sortAscending": true,
 "mosaicOperator": "First",
 "defaultCompressionQuality": 75,
 "defaultResamplingMethod": "Bilinear",
 "maxImageHeight": 4100,
 "maxImageWidth": 15000,
 "allowRasterFunction": true,
 "rasterFunctionInfos": [
  {
   "name": "None",
   "description": "",
   "help": ""
  }
 ],
 "rasterTypeInfos": [
  {
   "name": "Raster Dataset",
   "description": "Supports all ArcGIS Raster Datasets",
   "help": ""
  }
 ],
 "mensurationCapabilities": "Basic",
 "hasHistograms": false,
 "hasColormap": false,
 "hasRasterAttributeTable": false,
 "minScale": 0,
 "maxScale": 0,
 "exportTilesAllowed": false,
 "hasMultidimensions": false,
 "supportsStatistics": false,
 "supportsAdvancedQueries": false,
 "editFieldsInfo": null,
 "ownershipBasedAccessControlForRasters": null,
 "allowComputeTiePoints": false,
 "useStandardizedQueries": true,
 "advancedQueryCapabilities": {
  "useStandardizedQueries": true,
  "supportsStatistics": false,
  "supportsOrderBy": false,
  "supportsDistinct": false,
  "supportsPagination": false
 },
 "spatialReference": {
  "wkid": 32717,
  "latestWkid": 32717
 }
}
