{
 "currentVersion": 10.81,
 "serviceDescription": "ACTUALIZACIÓN 2024",
 "name": "Mapas_Base/PICAIHUA_CACHE",
 "description": "ACTUALIZACIÓN 2024",
 "extent": {
  "xmin": 765953.4000000001,
  "ymin": 9854682.291,
  "xmax": 772981.2000000002,
  "ymax": 9864164.691,
  "spatialReference": {
   "wkid": null
  }
 },
 "initialExtent": {
  "xmin": 765953.4000000001,
  "ymin": 9854682.291,
  "xmax": 772981.2000000002,
  "ymax": 9864164.691,
  "spatialReference": {
   "wkid": null
  }
 },
 "fullExtent": {
  "xmin": 765953.4000000001,
  "ymin": 9854682.291,
  "xmax": 772981.2000000002,
  "ymax": 9864164.691,
  "spatialReference": {
   "wkid": null
  }
 },
 "pixelSizeX": 0.300000000000002,
 "pixelSizeY": 0.3000000000000118,
 "bandCount": 3,
 "pixelType": "U8",
 "minPixelSize": 0,
 "maxPixelSize": 0,
 "copyrightText": "",
 "serviceDataType": "esriImageServiceDataTypeRGB",
 "minValues": [],
 "maxValues": [],
 "meanValues": [],
 "stdvValues": [],
 "objectIdField": "",
 "fields": [],
 "capabilities": "Image,Metadata,Mensuration",
 "defaultMosaicMethod": "Center",
 "allowedMosaicMethods": "",
 "sortField": "",
 "sortValue": null,
 "sortAscending": true,
 "mosaicOperator": "First",
 "defaultCompressionQuality": 75,
 "defaultResamplingMethod": "Bilinear",
 "maxImageHeight": 4100,
 "maxImageWidth": 15000,
 "allowRasterFunction": true,
 "rasterFunctionInfos": [
  {
   "name": "None",
   "description": "",
   "help": ""
  }
 ],
 "rasterTypeInfos": [
  {
   "name": "Raster Dataset",
   "description": "Supports all ArcGIS Raster Datasets",
   "help": ""
  }
 ],
 "mensurationCapabilities": "Basic",
 "hasHistograms": false,
 "hasColormap": false,
 "hasRasterAttributeTable": false,
 "minScale": 0,
 "maxScale": 0,
 "exportTilesAllowed": false,
 "hasMultidimensions": false,
 "supportsStatistics": false,
 "supportsAdvancedQueries": false,
 "editFieldsInfo": null,
 "ownershipBasedAccessControlForRasters": null,
 "allowComputeTiePoints": false,
 "useStandardizedQueries": true,
 "advancedQueryCapabilities": {
  "useStandardizedQueries": true,
  "supportsStatistics": false,
  "supportsOrderBy": false,
  "supportsDistinct": false,
  "supportsPagination": false
 },
 "spatialReference": {
  "wkid": null
 }
}
