{
 "currentVersion": 10.81,
 "serviceDescription": "Mapas_Base/PILAHUIN_CACHE",
 "name": "Mapas_Base/PILAHUIN_CACHE",
 "description": "",
 "extent": {
  "xmin": 728842.3412071702,
  "ymin": 9836755.316741606,
  "xmax": 755693.5412071699,
  "ymax": 9870678.416741606,
  "spatialReference": {
   "wkid": 31992,
   "latestWkid": 31992
  }
 },
 "initialExtent": {
  "xmin": 728842.3412071702,
  "ymin": 9836755.316741606,
  "xmax": 755693.5412071699,
  "ymax": 9870678.416741606,
  "spatialReference": {
   "wkid": 31992,
   "latestWkid": 31992
  }
 },
 "fullExtent": {
  "xmin": 728842.3412071702,
  "ymin": 9836755.316741606,
  "xmax": 755693.5412071699,
  "ymax": 9870678.416741606,
  "spatialReference": {
   "wkid": 31992,
   "latestWkid": 31992
  }
 },
 "pixelSizeX": 0.2999999999999969,
 "pixelSizeY": 0.2999999999999967,
 "bandCount": 4,
 "pixelType": "U16",
 "minPixelSize": 0,
 "maxPixelSize": 0,
 "copyrightText": "",
 "serviceDataType": "esriImageServiceDataTypeGeneric",
 "minValues": [
  0,
  0,
  0,
  0
 ],
 "maxValues": [
  255,
  255,
  255,
  255
 ],
 "meanValues": [
  54.490457631613,
  51.847020055899,
  45.261470395671,
  175.89559981954
 ],
 "stdvValues": [
  54.476720302196,
  51.547054087269,
  45.296169141783,
  77.568663222977
 ],
 "objectIdField": "",
 "fields": [],
 "capabilities": "Image,Metadata,Mensuration",
 "defaultMosaicMethod": "Center",
 "allowedMosaicMethods": "",
 "sortField": "",
 "sortValue": null,
 "sortAscending": true,
 "mosaicOperator": "First",
 "defaultCompressionQuality": 75,
 "defaultResamplingMethod": "Bilinear",
 "maxImageHeight": 4100,
 "maxImageWidth": 15000,
 "allowRasterFunction": true,
 "rasterFunctionInfos": [
  {
   "name": "None",
   "description": "",
   "help": ""
  }
 ],
 "rasterTypeInfos": [
  {
   "name": "Raster Dataset",
   "description": "Supports all ArcGIS Raster Datasets",
   "help": ""
  }
 ],
 "mensurationCapabilities": "Basic",
 "hasHistograms": true,
 "hasColormap": false,
 "hasRasterAttributeTable": false,
 "minScale": 0,
 "maxScale": 0,
 "exportTilesAllowed": false,
 "hasMultidimensions": false,
 "supportsStatistics": false,
 "supportsAdvancedQueries": false,
 "editFieldsInfo": null,
 "ownershipBasedAccessControlForRasters": null,
 "allowComputeTiePoints": false,
 "useStandardizedQueries": true,
 "advancedQueryCapabilities": {
  "useStandardizedQueries": true,
  "supportsStatistics": false,
  "supportsOrderBy": false,
  "supportsDistinct": false,
  "supportsPagination": false
 },
 "spatialReference": {
  "wkid": 31992,
  "latestWkid": 31992
 }
}
