{
 "currentVersion": 10.81,
 "serviceDescription": "ACTUALIZACION IMAGEN 2024",
 "name": "Mapas_Base/QUISAPINCHA_CACHE",
 "description": "ACTUALIZACION IMAGEN 2024",
 "extent": {
  "xmin": 746459.1000000001,
  "ymin": 9859798.190999998,
  "xmax": 762042.3000000002,
  "ymax": 9875006.390999997,
  "spatialReference": {
   "wkid": 32717,
   "latestWkid": 32717
  }
 },
 "initialExtent": {
  "xmin": 746459.1000000001,
  "ymin": 9859798.190999998,
  "xmax": 762042.3000000002,
  "ymax": 9875006.390999997,
  "spatialReference": {
   "wkid": 32717,
   "latestWkid": 32717
  }
 },
 "fullExtent": {
  "xmin": 746459.1000000001,
  "ymin": 9859798.190999998,
  "xmax": 762042.3000000002,
  "ymax": 9875006.390999997,
  "spatialReference": {
   "wkid": 32717,
   "latestWkid": 32717
  }
 },
 "pixelSizeX": 0.3000000000000013,
 "pixelSizeY": 0.2999999999999853,
 "bandCount": 6,
 "pixelType": "S32",
 "minPixelSize": 0,
 "maxPixelSize": 0,
 "copyrightText": "",
 "serviceDataType": "esriImageServiceDataTypeGeneric",
 "minValues": [
  0,
  0,
  0,
  0,
  0,
  0
 ],
 "maxValues": [
  65535,
  65535,
  65535,
  65535,
  65535,
  65535
 ],
 "meanValues": [
  1379.6584547112,
  1401.6126408361,
  1208.7526720115,
  3383.1754974491,
  2399.9350784933,
  1194.2901123807
 ],
 "stdvValues": [
  7149.6172352406,
  7145.9274649162,
  7166.1071816909,
  6980.4544822904,
  7051.4526458251,
  7167.0441607389
 ],
 "objectIdField": "",
 "fields": [],
 "capabilities": "Mensuration,Image,Metadata",
 "defaultMosaicMethod": "Center",
 "allowedMosaicMethods": "",
 "sortField": "",
 "sortValue": null,
 "sortAscending": true,
 "mosaicOperator": "First",
 "defaultCompressionQuality": 75,
 "defaultResamplingMethod": "Bilinear",
 "maxImageHeight": 4100,
 "maxImageWidth": 15000,
 "allowRasterFunction": true,
 "rasterFunctionInfos": [
  {
   "name": "None",
   "description": "",
   "help": ""
  }
 ],
 "rasterTypeInfos": [
  {
   "name": "Raster Dataset",
   "description": "Supports all ArcGIS Raster Datasets",
   "help": ""
  }
 ],
 "mensurationCapabilities": "Basic",
 "hasHistograms": true,
 "hasColormap": false,
 "hasRasterAttributeTable": false,
 "minScale": 0,
 "maxScale": 0,
 "exportTilesAllowed": false,
 "hasMultidimensions": false,
 "supportsStatistics": false,
 "supportsAdvancedQueries": false,
 "editFieldsInfo": null,
 "ownershipBasedAccessControlForRasters": null,
 "allowComputeTiePoints": false,
 "useStandardizedQueries": true,
 "advancedQueryCapabilities": {
  "useStandardizedQueries": true,
  "supportsStatistics": false,
  "supportsOrderBy": false,
  "supportsDistinct": false,
  "supportsPagination": false
 },
 "spatialReference": {
  "wkid": 32717,
  "latestWkid": 32717
 }
}
