{
 "currentVersion": 10.81,
 "serviceDescription": "Mapas_Base/SFERNANDO_CACHE",
 "name": "Mapas_Base/SFERNANDO_CACHE",
 "description": "",
 "extent": {
  "xmin": 738846.4417277494,
  "ymin": 9857140.64031308,
  "xmax": 752408.2417277491,
  "ymax": 9874191.74031308,
  "spatialReference": {
   "wkid": 31992,
   "latestWkid": 31992
  }
 },
 "initialExtent": {
  "xmin": 738846.4417277494,
  "ymin": 9857140.64031308,
  "xmax": 752408.2417277491,
  "ymax": 9874191.74031308,
  "spatialReference": {
   "wkid": 31992,
   "latestWkid": 31992
  }
 },
 "fullExtent": {
  "xmin": 738846.4417277494,
  "ymin": 9857140.64031308,
  "xmax": 752408.2417277491,
  "ymax": 9874191.74031308,
  "spatialReference": {
   "wkid": 31992,
   "latestWkid": 31992
  }
 },
 "pixelSizeX": 0.2999999999999933,
 "pixelSizeY": 0.29999999999999344,
 "bandCount": 4,
 "pixelType": "U16",
 "minPixelSize": 0,
 "maxPixelSize": 0,
 "copyrightText": "",
 "serviceDataType": "esriImageServiceDataTypeGeneric",
 "minValues": [
  0,
  0,
  0,
  0
 ],
 "maxValues": [
  255,
  255,
  255,
  255
 ],
 "meanValues": [
  61.500685780037,
  57.933886714735,
  51.02144422003,
  171.31891669968
 ],
 "stdvValues": [
  56.627479306697,
  52.818872725372,
  46.321595533155,
  74.912400409523
 ],
 "objectIdField": "",
 "fields": [],
 "capabilities": "Image,Metadata,Mensuration",
 "defaultMosaicMethod": "Center",
 "allowedMosaicMethods": "",
 "sortField": "",
 "sortValue": null,
 "sortAscending": true,
 "mosaicOperator": "First",
 "defaultCompressionQuality": 75,
 "defaultResamplingMethod": "Bilinear",
 "maxImageHeight": 4100,
 "maxImageWidth": 15000,
 "allowRasterFunction": true,
 "rasterFunctionInfos": [
  {
   "name": "None",
   "description": "",
   "help": ""
  }
 ],
 "rasterTypeInfos": [
  {
   "name": "Raster Dataset",
   "description": "Supports all ArcGIS Raster Datasets",
   "help": ""
  }
 ],
 "mensurationCapabilities": "Basic",
 "hasHistograms": true,
 "hasColormap": false,
 "hasRasterAttributeTable": false,
 "minScale": 0,
 "maxScale": 0,
 "exportTilesAllowed": false,
 "hasMultidimensions": false,
 "supportsStatistics": false,
 "supportsAdvancedQueries": false,
 "editFieldsInfo": null,
 "ownershipBasedAccessControlForRasters": null,
 "allowComputeTiePoints": false,
 "useStandardizedQueries": true,
 "advancedQueryCapabilities": {
  "useStandardizedQueries": true,
  "supportsStatistics": false,
  "supportsOrderBy": false,
  "supportsDistinct": false,
  "supportsPagination": false
 },
 "spatialReference": {
  "wkid": 31992,
  "latestWkid": 31992
 }
}
