{
 "currentVersion": 10.81,
 "serviceDescription": "ACTUALIZACION IMAGEN 2024",
 "name": "Mapas_Base/UNAMUNCHO_CACHE",
 "description": "ACTUALIZACION IMAGEN 2024",
 "extent": {
  "xmin": 766039.2000000001,
  "ymin": 9868766.690999998,
  "xmax": 770984.6999999996,
  "ymax": 9873213.290999997,
  "spatialReference": {
   "wkid": 32717,
   "latestWkid": 32717
  }
 },
 "initialExtent": {
  "xmin": 766039.2000000001,
  "ymin": 9868766.690999998,
  "xmax": 770984.6999999996,
  "ymax": 9873213.290999997,
  "spatialReference": {
   "wkid": 32717,
   "latestWkid": 32717
  }
 },
 "fullExtent": {
  "xmin": 766039.2000000001,
  "ymin": 9868766.690999998,
  "xmax": 770984.6999999996,
  "ymax": 9873213.290999997,
  "spatialReference": {
   "wkid": 32717,
   "latestWkid": 32717
  }
 },
 "pixelSizeX": 0.29999999999997173,
 "pixelSizeY": 0.29999999999997484,
 "bandCount": 3,
 "pixelType": "U8",
 "minPixelSize": 0,
 "maxPixelSize": 0,
 "copyrightText": "",
 "serviceDataType": "esriImageServiceDataTypeRGB",
 "minValues": [],
 "maxValues": [],
 "meanValues": [],
 "stdvValues": [],
 "objectIdField": "",
 "fields": [],
 "capabilities": "Image,Metadata,Mensuration",
 "defaultMosaicMethod": "Center",
 "allowedMosaicMethods": "",
 "sortField": "",
 "sortValue": null,
 "sortAscending": true,
 "mosaicOperator": "First",
 "defaultCompressionQuality": 75,
 "defaultResamplingMethod": "Bilinear",
 "maxImageHeight": 4100,
 "maxImageWidth": 15000,
 "allowRasterFunction": true,
 "rasterFunctionInfos": [
  {
   "name": "None",
   "description": "",
   "help": ""
  }
 ],
 "rasterTypeInfos": [
  {
   "name": "Raster Dataset",
   "description": "Supports all ArcGIS Raster Datasets",
   "help": ""
  }
 ],
 "mensurationCapabilities": "Basic",
 "hasHistograms": false,
 "hasColormap": false,
 "hasRasterAttributeTable": false,
 "minScale": 0,
 "maxScale": 0,
 "exportTilesAllowed": false,
 "hasMultidimensions": false,
 "supportsStatistics": false,
 "supportsAdvancedQueries": false,
 "editFieldsInfo": null,
 "ownershipBasedAccessControlForRasters": null,
 "allowComputeTiePoints": false,
 "useStandardizedQueries": true,
 "advancedQueryCapabilities": {
  "useStandardizedQueries": true,
  "supportsStatistics": false,
  "supportsOrderBy": false,
  "supportsDistinct": false,
  "supportsPagination": false
 },
 "spatialReference": {
  "wkid": 32717,
  "latestWkid": 32717
 }
}
