View In:
ArcGIS JavaScript
ArcGIS Online Map Viewer
ArcGIS Earth
ArcMap
View Footprint In:
ArcGIS Online Map Viewer
Service Description: Imagen de Rural 2024
Name: Imagenes2024/PICAIHUA_RUR
Description: Imagen de Rural 2024
Single Fused Map Cache: false
Extent:
XMin: 765930.9000000001
YMin: 9854654.990999999
XMax: 772985.0999999999
YMax: 9864183.590999998
Spatial Reference: 32717
(32717)
Initial Extent:
XMin: 765930.9000000001
YMin: 9854654.990999999
XMax: 772985.0999999999
YMax: 9864183.590999998
Spatial Reference: 32717
(32717)
Full Extent:
XMin: 765930.9000000001
YMin: 9854654.990999999
XMax: 772985.0999999999
YMax: 9864183.590999998
Spatial Reference: 32717
(32717)
Pixel Size X: 0.2999999999999881
Pixel Size Y: 0.2999999999999883
Band Count: 3
Pixel Type: S32
RasterFunction Infos: {"rasterFunctionInfos": [{
"name": "None",
"description": "",
"help": ""
}]}
Mensuration Capabilities: Basic
Has Histograms: true
Has Colormap: false
Has Multi Dimensions : false
Rendering Rule:
Min Scale: 0
Max Scale: 0
Copyright Text:
Service Data Type: esriImageServiceDataTypeGeneric
Min Values: 0, 0, 0
Max Values: 65535, 65535, 65535
Mean Values: 4564.0064692674, 4530.9878011221, 4375.6819555082
Standard Deviation Values: 15081.501377694, 15086.696392505, 15123.809248068
Object ID Field:
Fields:
None
Default Mosaic Method: Center
Allowed Mosaic Methods:
SortField:
SortValue: null
Mosaic Operator: First
Default Compression Quality: 75
Default Resampling Method: Bilinear
Max Record Count: null
Max Image Height: 4100
Max Image Width: 15000
Max Download Image Count: null
Max Mosaic Image Count: null
Allow Raster Function: true
Allow Copy: null
Allow Analysis: null
Allow Compute TiePoints: false
Supports Statistics: false
Supports Advanced Queries: false
Use StandardizedQueries: true
Raster Type Infos:
Name: Raster Dataset
Description: Supports all ArcGIS Raster Datasets
Help:
Has Raster Attribute Table: false
Edit Fields Info: null
Ownership Based AccessControl For Rasters: null
Child Resources:
Info
Histograms
Key Properties
Legend
Raster Function Infos
Supported Operations:
Export Image
Identify
Measure
Compute Histograms
Compute Statistics Histograms
Get Samples
Compute Class Statistics
Query Boundary
Compute Pixel Location
Validate
Project