View In:
ArcGIS JavaScript
ArcGIS Online Map Viewer
ArcGIS Earth
ArcMap
View Footprint In:
ArcGIS Online Map Viewer
Service Description: Imagen Urbana 2024
Name: Imagenes2024/PICAIHUA_URB
Description: Imagen Urbana 2024
Single Fused Map Cache: false
Extent:
XMin: 766129.7289999999
YMin: 9857195.523
XMax: 769501.9609999999
YMax: 9859446.229
Spatial Reference: 32717
(32717)
Initial Extent:
XMin: 766129.7289999999
YMin: 9857195.523
XMax: 769501.9609999999
YMax: 9859446.229
Spatial Reference: 32717
(32717)
Full Extent:
XMin: 766129.7289999999
YMin: 9857195.523
XMax: 769501.9609999999
YMax: 9859446.229
Spatial Reference: 32717
(32717)
Pixel Size X: 0.04299999999999949
Pixel Size Y: 0.043000000000004555
Band Count: 3
Pixel Type: U8
RasterFunction Infos: {"rasterFunctionInfos": [{
"name": "None",
"description": "",
"help": ""
}]}
Mensuration Capabilities: Basic
Has Histograms: true
Has Colormap: false
Has Multi Dimensions : false
Rendering Rule:
Min Scale: 0
Max Scale: 0
Copyright Text:
Service Data Type: esriImageServiceDataTypeRGB
Min Values: 1, 1, 1
Max Values: 254, 254, 254
Mean Values: 125.27194703817, 123.88782047676, 108.09891656702
Standard Deviation Values: 46.519345768182, 42.573415807762, 46.285809743819
Object ID Field:
Fields:
None
Default Mosaic Method: Center
Allowed Mosaic Methods:
SortField:
SortValue: null
Mosaic Operator: First
Default Compression Quality: 75
Default Resampling Method: Bilinear
Max Record Count: null
Max Image Height: 4100
Max Image Width: 15000
Max Download Image Count: null
Max Mosaic Image Count: null
Allow Raster Function: true
Allow Copy: null
Allow Analysis: null
Allow Compute TiePoints: false
Supports Statistics: false
Supports Advanced Queries: false
Use StandardizedQueries: true
Raster Type Infos:
Name: Raster Dataset
Description: Supports all ArcGIS Raster Datasets
Help:
Has Raster Attribute Table: false
Edit Fields Info: null
Ownership Based AccessControl For Rasters: null
Child Resources:
Info
Histograms
Key Properties
Legend
Raster Function Infos
Supported Operations:
Export Image
Identify
Measure
Compute Histograms
Compute Statistics Histograms
Get Samples
Compute Class Statistics
Query Boundary
Compute Pixel Location
Validate
Project