View In:
ArcGIS JavaScript
ArcGIS Online Map Viewer
ArcGIS Earth
ArcMap
View Footprint In:
ArcGIS Online Map Viewer
Service Description: Imagen de Parroquia Urbana 2024
Name: Imagenes2024/TOTORAS_URB
Description: Imagen de Parroquia Urbana 2024
Single Fused Map Cache: false
Extent:
XMin: 766805.6370400001
YMin: 9853617.77127
XMax: 767862.69304
YMax: 9855152.36727
Spatial Reference: 32717
(32717)
Initial Extent:
XMin: 766805.6370400001
YMin: 9853617.77127
XMax: 767862.69304
YMax: 9855152.36727
Spatial Reference: 32717
(32717)
Full Extent:
XMin: 766805.6370400001
YMin: 9853617.77127
XMax: 767862.69304
YMax: 9855152.36727
Spatial Reference: 32717
(32717)
Pixel Size X: 0.041999999999999295
Pixel Size Y: 0.04200000000002284
Band Count: 4
Pixel Type: U16
RasterFunction Infos: {"rasterFunctionInfos": [{
"name": "None",
"description": "",
"help": ""
}]}
Mensuration Capabilities: Basic
Has Histograms: true
Has Colormap: false
Has Multi Dimensions : false
Rendering Rule:
Min Scale: 0
Max Scale: 0
Copyright Text:
Service Data Type: esriImageServiceDataTypeGeneric
Min Values: 0, 0, 0, 255
Max Values: 255, 255, 255, 255
Mean Values: 118.26485102439, 124.40189130904, 109.10233219265, 255
Standard Deviation Values: 48.563097539097, 41.96423431109, 49.613970591599, 0
Object ID Field:
Fields:
None
Default Mosaic Method: Center
Allowed Mosaic Methods:
SortField:
SortValue: null
Mosaic Operator: First
Default Compression Quality: 75
Default Resampling Method: Bilinear
Max Record Count: null
Max Image Height: 4100
Max Image Width: 15000
Max Download Image Count: null
Max Mosaic Image Count: null
Allow Raster Function: true
Allow Copy: null
Allow Analysis: null
Allow Compute TiePoints: false
Supports Statistics: false
Supports Advanced Queries: false
Use StandardizedQueries: true
Raster Type Infos:
Name: Raster Dataset
Description: Supports all ArcGIS Raster Datasets
Help:
Has Raster Attribute Table: false
Edit Fields Info: null
Ownership Based AccessControl For Rasters: null
Child Resources:
Info
Histograms
Key Properties
Legend
Raster Function Infos
Supported Operations:
Export Image
Identify
Measure
Compute Histograms
Compute Statistics Histograms
Get Samples
Compute Class Statistics
Query Boundary
Compute Pixel Location
Validate
Project