View In:
ArcGIS JavaScript
ArcGIS Online Map Viewer
ArcGIS Earth
ArcMap
View Footprint In:
ArcGIS Online Map Viewer
Service Description: Ambato 2024
Name: Mapas_Base/AMBATO_CACHE
Description: Ambato 2024
Single Fused Map Cache: false
Extent:
XMin: 761398.5125300568
YMin: 9855852.661717763
XMax: 770843.9097425388
YMax: 9865259.801245766
Spatial Reference: 32717
(32717)
Initial Extent:
XMin: 761398.5125300568
YMin: 9855852.661717763
XMax: 770843.9097425388
YMax: 9865259.801245766
Spatial Reference: 32717
(32717)
Full Extent:
XMin: 761398.5125300568
YMin: 9855852.661717763
XMax: 770843.9097425388
YMax: 9865259.801245766
Spatial Reference: 32717
(32717)
Pixel Size X: 0.03899865900000024
Pixel Size Y: 0.0389986589999983
Band Count: 3
Pixel Type: U8
RasterFunction Infos: {"rasterFunctionInfos": [{
"name": "None",
"description": "",
"help": ""
}]}
Mensuration Capabilities: Basic
Has Histograms: true
Has Colormap: false
Has Multi Dimensions : false
Rendering Rule:
Min Scale: 0
Max Scale: 0
Copyright Text: Gadma
Service Data Type: esriImageServiceDataTypeRGB
Min Values: 0, 0, 0
Max Values: 254, 254, 254
Mean Values: 122.19983584164, 122.47310896547, 111.44261669544
Standard Deviation Values: 44.448778054855, 40.60159293002, 45.183422607712
Object ID Field:
Fields:
None
Default Mosaic Method: Center
Allowed Mosaic Methods:
SortField:
SortValue: null
Mosaic Operator: First
Default Compression Quality: 75
Default Resampling Method: Bilinear
Max Record Count: null
Max Image Height: 4100
Max Image Width: 15000
Max Download Image Count: null
Max Mosaic Image Count: null
Allow Raster Function: true
Allow Copy: null
Allow Analysis: null
Allow Compute TiePoints: false
Supports Statistics: false
Supports Advanced Queries: false
Use StandardizedQueries: true
Raster Type Infos:
Name: Raster Dataset
Description: Supports all ArcGIS Raster Datasets
Help:
Has Raster Attribute Table: false
Edit Fields Info: null
Ownership Based AccessControl For Rasters: null
Child Resources:
Info
Histograms
Key Properties
Legend
Raster Function Infos
Supported Operations:
Export Image
Identify
Measure
Compute Histograms
Compute Statistics Histograms
Get Samples
Compute Class Statistics
Query Boundary
Compute Pixel Location
Validate
Project