View In:
ArcGIS JavaScript
ArcGIS Online Map Viewer
ArcGIS Earth
ArcMap
View Footprint In:
ArcGIS Online Map Viewer
Service Description: Imagenes Urbana 2024
Name: Imagenes2024/HUACHI_URB
Description: Imagenes Urbana 2024
Single Fused Map Cache: false
Extent:
XMin: 761449.502
YMin: 9854153.311
XMax: 766459.194
YMax: 9858000.545
Spatial Reference: 32717
(32717)
Initial Extent:
XMin: 761449.502
YMin: 9854153.311
XMax: 766459.194
YMax: 9858000.545
Spatial Reference: 32717
(32717)
Full Extent:
XMin: 761449.502
YMin: 9854153.311
XMax: 766459.194
YMax: 9858000.545
Spatial Reference: 32717
(32717)
Pixel Size X: 0.0380000000000003
Pixel Size Y: 0.03799999999999249
Band Count: 3
Pixel Type: U8
RasterFunction Infos: {"rasterFunctionInfos": [{
"name": "None",
"description": "",
"help": ""
}]}
Mensuration Capabilities: Basic
Has Histograms: true
Has Colormap: false
Has Multi Dimensions : false
Rendering Rule:
Min Scale: 0
Max Scale: 0
Copyright Text:
Service Data Type: esriImageServiceDataTypeRGB
Min Values: 1, 1, 1
Max Values: 254, 254, 254
Mean Values: 126.43026121374, 123.75677548439, 112.04351561492
Standard Deviation Values: 36.864164241478, 33.28714002856, 38.509570549666
Object ID Field:
Fields:
None
Default Mosaic Method: Center
Allowed Mosaic Methods:
SortField:
SortValue: null
Mosaic Operator: First
Default Compression Quality: 75
Default Resampling Method: Bilinear
Max Record Count: null
Max Image Height: 4100
Max Image Width: 15000
Max Download Image Count: null
Max Mosaic Image Count: null
Allow Raster Function: true
Allow Copy: null
Allow Analysis: null
Allow Compute TiePoints: false
Supports Statistics: false
Supports Advanced Queries: false
Use StandardizedQueries: true
Raster Type Infos:
Name: Raster Dataset
Description: Supports all ArcGIS Raster Datasets
Help:
Has Raster Attribute Table: false
Edit Fields Info: null
Ownership Based AccessControl For Rasters: null
Child Resources:
Info
Histograms
Key Properties
Legend
Raster Function Infos
Supported Operations:
Export Image
Identify
Measure
Compute Histograms
Compute Statistics Histograms
Get Samples
Compute Class Statistics
Query Boundary
Compute Pixel Location
Validate
Project