View In:
ArcGIS JavaScript
ArcGIS Online Map Viewer
ArcGIS Earth
ArcMap
View Footprint In:
ArcGIS Online Map Viewer
Service Description: Imagenes Urbana 2024
Name: Imagenes2024/MONTALVO_URB
Description: Imagenes Urbana 2024
Single Fused Map Cache: false
Extent:
XMin: 763381.08643
YMin: 9852347.60559
XMax: 764681.2859600001
YMax: 9853236.65557
Spatial Reference: 32717
(32717)
Initial Extent:
XMin: 763381.08643
YMin: 9852347.60559
XMax: 764681.2859600001
YMax: 9853236.65557
Spatial Reference: 32717
(32717)
Full Extent:
XMin: 763381.08643
YMin: 9852347.60559
XMax: 764681.2859600001
YMax: 9853236.65557
Spatial Reference: 32717
(32717)
Pixel Size X: 0.038990000000002994
Pixel Size Y: 0.038989999999985155
Band Count: 4
Pixel Type: U16
RasterFunction Infos: {"rasterFunctionInfos": [{
"name": "None",
"description": "",
"help": ""
}]}
Mensuration Capabilities: Basic
Has Histograms: true
Has Colormap: false
Has Multi Dimensions : false
Rendering Rule:
Min Scale: 0
Max Scale: 0
Copyright Text:
Service Data Type: esriImageServiceDataTypeGeneric
Min Values: 0, 0, 0, 255
Max Values: 255, 255, 255, 255
Mean Values: 117.05377696718, 119.64246310709, 109.94516886788, 255
Standard Deviation Values: 45.653574048155, 41.287328847947, 46.28047657149, 0
Object ID Field:
Fields:
None
Default Mosaic Method: Center
Allowed Mosaic Methods:
SortField:
SortValue: null
Mosaic Operator: First
Default Compression Quality: 75
Default Resampling Method: Bilinear
Max Record Count: null
Max Image Height: 4100
Max Image Width: 15000
Max Download Image Count: null
Max Mosaic Image Count: null
Allow Raster Function: true
Allow Copy: null
Allow Analysis: null
Allow Compute TiePoints: false
Supports Statistics: false
Supports Advanced Queries: false
Use StandardizedQueries: true
Raster Type Infos:
Name: Raster Dataset
Description: Supports all ArcGIS Raster Datasets
Help:
Has Raster Attribute Table: false
Edit Fields Info: null
Ownership Based AccessControl For Rasters: null
Child Resources:
Info
Histograms
Key Properties
Legend
Raster Function Infos
Supported Operations:
Export Image
Identify
Measure
Compute Histograms
Compute Statistics Histograms
Get Samples
Compute Class Statistics
Query Boundary
Compute Pixel Location
Validate
Project