View In:
ArcGIS JavaScript
ArcGIS Online Map Viewer
ArcGIS Earth
ArcMap
View Footprint In:
ArcGIS Online Map Viewer
Service Description: ACTUALIZACION CATASTRAL 2024
Name: Mapas_Base/AMBATILLO_CACHE
Description: ACTUALIZACION CATASTRAL 2024
Single Fused Map Cache: false
Extent:
XMin: 758815.8
YMin: 9861253.490999999
XMax: 762161.4
YMax: 9872491.190999998
Spatial Reference: 32717
(32717)
Initial Extent:
XMin: 758815.8
YMin: 9861253.490999999
XMax: 762161.4
YMax: 9872491.190999998
Spatial Reference: 32717
(32717)
Full Extent:
XMin: 758815.8
YMin: 9861253.490999999
XMax: 762161.4
YMax: 9872491.190999998
Spatial Reference: 32717
(32717)
Pixel Size X: 0.29999999999999793
Pixel Size Y: 0.2999999999999801
Band Count: 6
Pixel Type: S32
RasterFunction Infos: {"rasterFunctionInfos": [{
"name": "None",
"description": "",
"help": ""
}]}
Mensuration Capabilities: Basic
Has Histograms: true
Has Colormap: false
Has Multi Dimensions : false
Rendering Rule:
Min Scale: 0
Max Scale: 0
Copyright Text:
Service Data Type: esriImageServiceDataTypeGeneric
Min Values: 0, 0, 0, 0, 0, 0
Max Values: 65535, 65535, 65535, 65535, 65535, 65535
Mean Values: 722.01026588894, 740.21955878636, 532.05189340088, 2825.5551265584, 1702.1451326281, 510.95174826368
Standard Deviation Values: 1718.3377388256, 1707.5372447334, 1707.3554215675, 1846.5704120549, 1736.3318984607, 1702.5193548075
Object ID Field:
Fields:
None
Default Mosaic Method: Center
Allowed Mosaic Methods:
SortField:
SortValue: null
Mosaic Operator: First
Default Compression Quality: 75
Default Resampling Method: Bilinear
Max Record Count: null
Max Image Height: 4100
Max Image Width: 15000
Max Download Image Count: null
Max Mosaic Image Count: null
Allow Raster Function: true
Allow Copy: null
Allow Analysis: null
Allow Compute TiePoints: false
Supports Statistics: false
Supports Advanced Queries: false
Use StandardizedQueries: true
Raster Type Infos:
Name: Raster Dataset
Description: Supports all ArcGIS Raster Datasets
Help:
Has Raster Attribute Table: false
Edit Fields Info: null
Ownership Based AccessControl For Rasters: null
Child Resources:
Info
Histograms
Key Properties
Legend
Raster Function Infos
Supported Operations:
Export Image
Identify
Measure
Compute Histograms
Compute Statistics Histograms
Get Samples
Compute Class Statistics
Query Boundary
Compute Pixel Location
Validate
Project