View In:
ArcGIS JavaScript
ArcGIS Online Map Viewer
ArcGIS Earth
ArcMap
View Footprint In:
ArcGIS Online Map Viewer
Service Description: ACTUALIZACION IMAGEN 2024
Name: Mapas_Base/CONSTANTINO_CACHE
Description: ACTUALIZACION IMAGEN 2024
Single Fused Map Cache: false
Extent:
XMin: 759390.9
YMin: 9864649.190999998
XMax: 765678.3
YMax: 9872695.190999998
Spatial Reference: 32717
(32717)
Initial Extent:
XMin: 759390.9
YMin: 9864649.190999998
XMax: 765678.3
YMax: 9872695.190999998
Spatial Reference: 32717
(32717)
Full Extent:
XMin: 759390.9
YMin: 9864649.190999998
XMax: 765678.3
YMax: 9872695.190999998
Spatial Reference: 32717
(32717)
Pixel Size X: 0.3000000000000011
Pixel Size Y: 0.3
Band Count: 6
Pixel Type: S32
RasterFunction Infos: {"rasterFunctionInfos": [{
"name": "None",
"description": "",
"help": ""
}]}
Mensuration Capabilities: Basic
Has Histograms: true
Has Colormap: false
Has Multi Dimensions : false
Rendering Rule:
Min Scale: 0
Max Scale: 0
Copyright Text:
Service Data Type: esriImageServiceDataTypeGeneric
Min Values: 0, 0, 0, 0, 0, 0
Max Values: 65535, 65535, 65535, 65535, 65535, 65535
Mean Values: 807.51823656985, 795.30740477151, 592.79788250124, 2756.5158752675, 1706.4361668643, 569.96191722632
Standard Deviation Values: 1979.4900099401, 1967.2571311393, 1968.4427732547, 2055.1322164915, 1972.9773447281, 1963.7645154724
Object ID Field:
Fields:
None
Default Mosaic Method: Center
Allowed Mosaic Methods:
SortField:
SortValue: null
Mosaic Operator: First
Default Compression Quality: 75
Default Resampling Method: Bilinear
Max Record Count: null
Max Image Height: 4100
Max Image Width: 15000
Max Download Image Count: null
Max Mosaic Image Count: null
Allow Raster Function: true
Allow Copy: null
Allow Analysis: null
Allow Compute TiePoints: false
Supports Statistics: false
Supports Advanced Queries: false
Use StandardizedQueries: true
Raster Type Infos:
Name: Raster Dataset
Description: Supports all ArcGIS Raster Datasets
Help:
Has Raster Attribute Table: false
Edit Fields Info: null
Ownership Based AccessControl For Rasters: null
Child Resources:
Info
Histograms
Key Properties
Legend
Raster Function Infos
Supported Operations:
Export Image
Identify
Measure
Compute Histograms
Compute Statistics Histograms
Get Samples
Compute Class Statistics
Query Boundary
Compute Pixel Location
Validate
Project