View In:
ArcGIS JavaScript
ArcGIS Online Map Viewer
ArcGIS Earth
ArcMap
View Footprint In:
ArcGIS Online Map Viewer
Service Description: ACTUALIZACION CATASTRAL 2024
Name: Mapas_Base/PASA_CACHE
Description: ACTUALIZACION CATASTRAL 2024
Single Fused Map Cache: false
Extent:
XMin: 745524.3
YMin: 9857363.990999999
XMax: 758655.9
YMax: 9871191.291
Spatial Reference: 32717
(32717)
Initial Extent:
XMin: 745524.3
YMin: 9857363.990999999
XMax: 758655.9
YMax: 9871191.291
Spatial Reference: 32717
(32717)
Full Extent:
XMin: 745524.3
YMin: 9857363.990999999
XMax: 758655.9
YMax: 9871191.291
Spatial Reference: 32717
(32717)
Pixel Size X: 0.2999999999999995
Pixel Size Y: 0.30000000000001614
Band Count: 3
Pixel Type: U8
RasterFunction Infos: {"rasterFunctionInfos": [{
"name": "None",
"description": "",
"help": ""
}]}
Mensuration Capabilities: Basic
Has Histograms: false
Has Colormap: false
Has Multi Dimensions : false
Rendering Rule:
Min Scale: 0
Max Scale: 0
Copyright Text:
Service Data Type: esriImageServiceDataTypeRGB
Min Values: N/A
Max Values: N/A
Mean Values: N/A
Standard Deviation Values: N/A
Object ID Field:
Fields:
None
Default Mosaic Method: Center
Allowed Mosaic Methods:
SortField:
SortValue: null
Mosaic Operator: First
Default Compression Quality: 75
Default Resampling Method: Bilinear
Max Record Count: null
Max Image Height: 4100
Max Image Width: 15000
Max Download Image Count: null
Max Mosaic Image Count: null
Allow Raster Function: true
Allow Copy: null
Allow Analysis: null
Allow Compute TiePoints: false
Supports Statistics: false
Supports Advanced Queries: false
Use StandardizedQueries: true
Raster Type Infos:
Name: Raster Dataset
Description: Supports all ArcGIS Raster Datasets
Help:
Has Raster Attribute Table: false
Edit Fields Info: null
Ownership Based AccessControl For Rasters: null
Child Resources:
Info
Key Properties
Legend
Raster Function Infos
Supported Operations:
Export Image
Identify
Measure
Compute Histograms
Compute Statistics Histograms
Get Samples
Compute Class Statistics
Query Boundary
Compute Pixel Location
Validate
Project