View In:
ArcGIS JavaScript
ArcGIS Online Map Viewer
ArcGIS Earth
ArcMap
View Footprint In:
ArcGIS Online Map Viewer
Service Description: Mapas_Base/PILAHUIN_CACHE
Name: Mapas_Base/PILAHUIN_CACHE
Description:
Single Fused Map Cache: false
Extent:
XMin: 728842.3412071702
YMin: 9836755.316741606
XMax: 755693.5412071699
YMax: 9870678.416741606
Spatial Reference: 31992
(31992)
Initial Extent:
XMin: 728842.3412071702
YMin: 9836755.316741606
XMax: 755693.5412071699
YMax: 9870678.416741606
Spatial Reference: 31992
(31992)
Full Extent:
XMin: 728842.3412071702
YMin: 9836755.316741606
XMax: 755693.5412071699
YMax: 9870678.416741606
Spatial Reference: 31992
(31992)
Pixel Size X: 0.2999999999999969
Pixel Size Y: 0.2999999999999967
Band Count: 4
Pixel Type: U16
RasterFunction Infos: {"rasterFunctionInfos": [{
"name": "None",
"description": "",
"help": ""
}]}
Mensuration Capabilities: Basic
Has Histograms: true
Has Colormap: false
Has Multi Dimensions : false
Rendering Rule:
Min Scale: 0
Max Scale: 0
Copyright Text:
Service Data Type: esriImageServiceDataTypeGeneric
Min Values: 0, 0, 0, 0
Max Values: 255, 255, 255, 255
Mean Values: 54.490457631613, 51.847020055899, 45.261470395671, 175.89559981954
Standard Deviation Values: 54.476720302196, 51.547054087269, 45.296169141783, 77.568663222977
Object ID Field:
Fields:
None
Default Mosaic Method: Center
Allowed Mosaic Methods:
SortField:
SortValue: null
Mosaic Operator: First
Default Compression Quality: 75
Default Resampling Method: Bilinear
Max Record Count: null
Max Image Height: 4100
Max Image Width: 15000
Max Download Image Count: null
Max Mosaic Image Count: null
Allow Raster Function: true
Allow Copy: null
Allow Analysis: null
Allow Compute TiePoints: false
Supports Statistics: false
Supports Advanced Queries: false
Use StandardizedQueries: true
Raster Type Infos:
Name: Raster Dataset
Description: Supports all ArcGIS Raster Datasets
Help:
Has Raster Attribute Table: false
Edit Fields Info: null
Ownership Based AccessControl For Rasters: null
Child Resources:
Info
Histograms
Key Properties
Legend
Raster Function Infos
Supported Operations:
Export Image
Identify
Measure
Compute Histograms
Compute Statistics Histograms
Get Samples
Compute Class Statistics
Query Boundary
Compute Pixel Location
Validate
Project