View In:
ArcGIS JavaScript
ArcGIS Online Map Viewer
ArcGIS Earth
ArcMap
View Footprint In:
ArcGIS Online Map Viewer
Service Description: ACTUALIZACION IMAGEN 2024
Name: Mapas_Base/QUISAPINCHA_CACHE
Description: ACTUALIZACION IMAGEN 2024
Single Fused Map Cache: false
Extent:
XMin: 746459.1000000001
YMin: 9859798.190999998
XMax: 762042.3000000002
YMax: 9875006.390999997
Spatial Reference: 32717
(32717)
Initial Extent:
XMin: 746459.1000000001
YMin: 9859798.190999998
XMax: 762042.3000000002
YMax: 9875006.390999997
Spatial Reference: 32717
(32717)
Full Extent:
XMin: 746459.1000000001
YMin: 9859798.190999998
XMax: 762042.3000000002
YMax: 9875006.390999997
Spatial Reference: 32717
(32717)
Pixel Size X: 0.3000000000000013
Pixel Size Y: 0.2999999999999853
Band Count: 6
Pixel Type: S32
RasterFunction Infos: {"rasterFunctionInfos": [{
"name": "None",
"description": "",
"help": ""
}]}
Mensuration Capabilities: Basic
Has Histograms: true
Has Colormap: false
Has Multi Dimensions : false
Rendering Rule:
Min Scale: 0
Max Scale: 0
Copyright Text:
Service Data Type: esriImageServiceDataTypeGeneric
Min Values: 0, 0, 0, 0, 0, 0
Max Values: 65535, 65535, 65535, 65535, 65535, 65535
Mean Values: 1379.6584547112, 1401.6126408361, 1208.7526720115, 3383.1754974491, 2399.9350784933, 1194.2901123807
Standard Deviation Values: 7149.6172352406, 7145.9274649162, 7166.1071816909, 6980.4544822904, 7051.4526458251, 7167.0441607389
Object ID Field:
Fields:
None
Default Mosaic Method: Center
Allowed Mosaic Methods:
SortField:
SortValue: null
Mosaic Operator: First
Default Compression Quality: 75
Default Resampling Method: Bilinear
Max Record Count: null
Max Image Height: 4100
Max Image Width: 15000
Max Download Image Count: null
Max Mosaic Image Count: null
Allow Raster Function: true
Allow Copy: null
Allow Analysis: null
Allow Compute TiePoints: false
Supports Statistics: false
Supports Advanced Queries: false
Use StandardizedQueries: true
Raster Type Infos:
Name: Raster Dataset
Description: Supports all ArcGIS Raster Datasets
Help:
Has Raster Attribute Table: false
Edit Fields Info: null
Ownership Based AccessControl For Rasters: null
Child Resources:
Info
Histograms
Key Properties
Legend
Raster Function Infos
Supported Operations:
Export Image
Identify
Measure
Compute Histograms
Compute Statistics Histograms
Get Samples
Compute Class Statistics
Query Boundary
Compute Pixel Location
Validate
Project