View In:
ArcGIS JavaScript
ArcGIS Online Map Viewer
ArcGIS Earth
ArcMap
View Footprint In:
ArcGIS Online Map Viewer
Service Description: Mapas_Base/SFERNANDO_CACHE
Name: Mapas_Base/SFERNANDO_CACHE
Description:
Single Fused Map Cache: false
Extent:
XMin: 738846.4417277494
YMin: 9857140.64031308
XMax: 752408.2417277491
YMax: 9874191.74031308
Spatial Reference: 31992
(31992)
Initial Extent:
XMin: 738846.4417277494
YMin: 9857140.64031308
XMax: 752408.2417277491
YMax: 9874191.74031308
Spatial Reference: 31992
(31992)
Full Extent:
XMin: 738846.4417277494
YMin: 9857140.64031308
XMax: 752408.2417277491
YMax: 9874191.74031308
Spatial Reference: 31992
(31992)
Pixel Size X: 0.2999999999999933
Pixel Size Y: 0.29999999999999344
Band Count: 4
Pixel Type: U16
RasterFunction Infos: {"rasterFunctionInfos": [{
"name": "None",
"description": "",
"help": ""
}]}
Mensuration Capabilities: Basic
Has Histograms: true
Has Colormap: false
Has Multi Dimensions : false
Rendering Rule:
Min Scale: 0
Max Scale: 0
Copyright Text:
Service Data Type: esriImageServiceDataTypeGeneric
Min Values: 0, 0, 0, 0
Max Values: 255, 255, 255, 255
Mean Values: 61.500685780037, 57.933886714735, 51.02144422003, 171.31891669968
Standard Deviation Values: 56.627479306697, 52.818872725372, 46.321595533155, 74.912400409523
Object ID Field:
Fields:
None
Default Mosaic Method: Center
Allowed Mosaic Methods:
SortField:
SortValue: null
Mosaic Operator: First
Default Compression Quality: 75
Default Resampling Method: Bilinear
Max Record Count: null
Max Image Height: 4100
Max Image Width: 15000
Max Download Image Count: null
Max Mosaic Image Count: null
Allow Raster Function: true
Allow Copy: null
Allow Analysis: null
Allow Compute TiePoints: false
Supports Statistics: false
Supports Advanced Queries: false
Use StandardizedQueries: true
Raster Type Infos:
Name: Raster Dataset
Description: Supports all ArcGIS Raster Datasets
Help:
Has Raster Attribute Table: false
Edit Fields Info: null
Ownership Based AccessControl For Rasters: null
Child Resources:
Info
Histograms
Key Properties
Legend
Raster Function Infos
Supported Operations:
Export Image
Identify
Measure
Compute Histograms
Compute Statistics Histograms
Get Samples
Compute Class Statistics
Query Boundary
Compute Pixel Location
Validate
Project